BEGIN:VCALENDAR
VERSION:2.0
PRODID:-//Greater Jackson Chamber - ECPv6.15.20//NONSGML v1.0//EN
CALSCALE:GREGORIAN
METHOD:PUBLISH
X-WR-CALNAME:Greater Jackson Chamber
X-ORIGINAL-URL:https://jacksontn.com
X-WR-CALDESC:Events for Greater Jackson Chamber
REFRESH-INTERVAL;VALUE=DURATION:PT1H
X-Robots-Tag:noindex
X-PUBLISHED-TTL:PT1H
BEGIN:VTIMEZONE
TZID:America/Chicago
BEGIN:DAYLIGHT
TZOFFSETFROM:-0600
TZOFFSETTO:-0500
TZNAME:CDT
DTSTART:20240310T080000
END:DAYLIGHT
BEGIN:STANDARD
TZOFFSETFROM:-0500
TZOFFSETTO:-0600
TZNAME:CST
DTSTART:20241103T070000
END:STANDARD
BEGIN:DAYLIGHT
TZOFFSETFROM:-0600
TZOFFSETTO:-0500
TZNAME:CDT
DTSTART:20250309T080000
END:DAYLIGHT
BEGIN:STANDARD
TZOFFSETFROM:-0500
TZOFFSETTO:-0600
TZNAME:CST
DTSTART:20251102T070000
END:STANDARD
BEGIN:DAYLIGHT
TZOFFSETFROM:-0600
TZOFFSETTO:-0500
TZNAME:CDT
DTSTART:20260308T080000
END:DAYLIGHT
BEGIN:STANDARD
TZOFFSETFROM:-0500
TZOFFSETTO:-0600
TZNAME:CST
DTSTART:20261101T070000
END:STANDARD
END:VTIMEZONE
BEGIN:VEVENT
DTSTART;TZID=America/Chicago:20250722T080000
DTEND;TZID=America/Chicago:20250722T110000
DTSTAMP:20260423T002142
CREATED:20250710T125528Z
LAST-MODIFIED:20250710T125528Z
UID:10002788-1753171200-1753182000@jacksontn.com
SUMMARY:Lifeline Blood Drive
DESCRIPTION:Donors\, 18 and up\, enter to win our 7th Annual Car Giveaway – 2022 Ford Mustang Convertible\, donated by Joe Mahan Ford.
URL:https://jacksontn.com/event/lifeline-blood-drive/
LOCATION:West Tennessee Healthcare Sportsplex\, 250 Bancorpsouth Pkwy\, Jackson\, TN\, 38305\, United States
CATEGORIES:Member Events
ATTACH;FMTTYPE=image/png:https://jacksontn.com/wp-content/uploads/Madison-Co.-Blood-Drives.png
END:VEVENT
BEGIN:VEVENT
DTSTART;TZID=America/Chicago:20250724T090000
DTEND;TZID=America/Chicago:20250724T170000
DTSTAMP:20260423T002142
CREATED:20250710T125756Z
LAST-MODIFIED:20250710T125756Z
UID:10002789-1753347600-1753376400@jacksontn.com
SUMMARY:Lifeline Blood Drive
DESCRIPTION:
URL:https://jacksontn.com/event/lifeline-blood-drive-2/
LOCATION:Jackson Madison County General Hospital\, 620 Skyline Drive\, Jackson\, TN\, 38301\, United States
CATEGORIES:Member Events
ATTACH;FMTTYPE=image/png:https://jacksontn.com/wp-content/uploads/Madison-Co.-Blood-Drives.png
END:VEVENT
BEGIN:VEVENT
DTSTART;TZID=America/Chicago:20250731T120000
DTEND;TZID=America/Chicago:20250731T130000
DTSTAMP:20260423T002142
CREATED:20250116T140035Z
LAST-MODIFIED:20250116T140035Z
UID:10002337-1753963200-1753966800@jacksontn.com
SUMMARY:Bites & Insights
DESCRIPTION:Join us for Bites and Insights\, educational sessions for small businesses! Connect with fellow small business leaders who understand the challenges you face and gain valuable insights from industry experts on improving your business. Lunch included. \nDate: Thursday\, January 30\nTime: 12:00 – 1:00 PM\nLocation: Greater Jackson Chamber\n197 Auditorium St. | Jackson\, TN 38301 \nSession Topic: Champion Up with Customer Service\nSpeakers: Karen Freeman\, Chief Operations Officer and Hinna Jamal\, Sales Strategy Officer\nboth with Leaders Credit Union \nSponsored by: Adelsberger Marketing
URL:https://jacksontn.com/event/bites-insights/2025-07-31/
LOCATION:Greater Jackson Chamber\, 197 Auditorium Street\, Jackson\, TN\, 38301\, United States
CATEGORIES:Chamber Events
END:VEVENT
END:VCALENDAR