BEGIN:VCALENDAR
VERSION:2.0
PRODID:-//Greater Jackson Chamber - ECPv6.15.20//NONSGML v1.0//EN
CALSCALE:GREGORIAN
METHOD:PUBLISH
X-ORIGINAL-URL:https://jacksontn.com
X-WR-CALDESC:Events for Greater Jackson Chamber
REFRESH-INTERVAL;VALUE=DURATION:PT1H
X-Robots-Tag:noindex
X-PUBLISHED-TTL:PT1H
BEGIN:VTIMEZONE
TZID:America/Chicago
BEGIN:DAYLIGHT
TZOFFSETFROM:-0600
TZOFFSETTO:-0500
TZNAME:CDT
DTSTART:20240310T080000
END:DAYLIGHT
BEGIN:STANDARD
TZOFFSETFROM:-0500
TZOFFSETTO:-0600
TZNAME:CST
DTSTART:20241103T070000
END:STANDARD
BEGIN:DAYLIGHT
TZOFFSETFROM:-0600
TZOFFSETTO:-0500
TZNAME:CDT
DTSTART:20250309T080000
END:DAYLIGHT
BEGIN:STANDARD
TZOFFSETFROM:-0500
TZOFFSETTO:-0600
TZNAME:CST
DTSTART:20251102T070000
END:STANDARD
BEGIN:DAYLIGHT
TZOFFSETFROM:-0600
TZOFFSETTO:-0500
TZNAME:CDT
DTSTART:20260308T080000
END:DAYLIGHT
BEGIN:STANDARD
TZOFFSETFROM:-0500
TZOFFSETTO:-0600
TZNAME:CST
DTSTART:20261101T070000
END:STANDARD
END:VTIMEZONE
BEGIN:VEVENT
DTSTART;TZID=America/Chicago:20250111T180000
DTEND;TZID=America/Chicago:20250111T230000
DTSTAMP:20260425T164154
CREATED:20241201T130317Z
LAST-MODIFIED:20241201T130317Z
UID:10000134-1736618400-1736636400@jacksontn.com
SUMMARY:Black Tie & Boxing 2025
DESCRIPTION:Black Tie & Boxing 2025\nPresented by Leaders Credit Union \nJoin us for an unforgettable evening of Black Tie & Boxing and support the STAR Center of Jackson! Together\, let’s continue to #CrushTheNO for individuals of ALL abilities in our community. \nGeneral Admission Tickets\nOn Sale Now! \nGA tickets include balcony seating only.\nPizza slices from Rock’N Dough and beverages will be available for purchase while supplies last. \nDoors Open: 6:00 PM\nFights Begin: 7:00 PM \nDon’t miss this exciting night of entertainment for a great cause! Follow us on Instagram @blacktieboxingjackson or Facebook Black Tie & Boxing Jackson for updates. \nTickets are non-refundable.
URL:https://jacksontn.com/event/black-tie-boxing-2025/
LOCATION:Carl Perkins Civic Center\, 400 South Highland Avenue\, Jackson\, TN\, 38301\, United States
CATEGORIES:Member Events
ATTACH;FMTTYPE=image/png:https://jacksontn.com/wp-content/uploads/BTB-2025-Hallway-Poster-BTB-Logo.png
ORGANIZER;CN="The Star Center":MAILTO:marketing@star-center.org
END:VEVENT
END:VCALENDAR