BEGIN:VCALENDAR
VERSION:2.0
PRODID:-//Greater Jackson Chamber - ECPv6.15.20//NONSGML v1.0//EN
CALSCALE:GREGORIAN
METHOD:PUBLISH
X-WR-CALNAME:Greater Jackson Chamber
X-ORIGINAL-URL:https://jacksontn.com
X-WR-CALDESC:Events for Greater Jackson Chamber
REFRESH-INTERVAL;VALUE=DURATION:PT1H
X-Robots-Tag:noindex
X-PUBLISHED-TTL:PT1H
BEGIN:VTIMEZONE
TZID:America/Chicago
BEGIN:DAYLIGHT
TZOFFSETFROM:-0600
TZOFFSETTO:-0500
TZNAME:CDT
DTSTART:20230312T080000
END:DAYLIGHT
BEGIN:STANDARD
TZOFFSETFROM:-0500
TZOFFSETTO:-0600
TZNAME:CST
DTSTART:20231105T070000
END:STANDARD
BEGIN:DAYLIGHT
TZOFFSETFROM:-0600
TZOFFSETTO:-0500
TZNAME:CDT
DTSTART:20240310T080000
END:DAYLIGHT
BEGIN:STANDARD
TZOFFSETFROM:-0500
TZOFFSETTO:-0600
TZNAME:CST
DTSTART:20241103T070000
END:STANDARD
BEGIN:DAYLIGHT
TZOFFSETFROM:-0600
TZOFFSETTO:-0500
TZNAME:CDT
DTSTART:20250309T080000
END:DAYLIGHT
BEGIN:STANDARD
TZOFFSETFROM:-0500
TZOFFSETTO:-0600
TZNAME:CST
DTSTART:20251102T070000
END:STANDARD
END:VTIMEZONE
BEGIN:VEVENT
DTSTART;TZID=America/Chicago:20241112T140000
DTEND;TZID=America/Chicago:20241112T180000
DTSTAMP:20260423T095302
CREATED:20241101T192927Z
LAST-MODIFIED:20241101T192927Z
UID:10000127-1731420000-1731434400@jacksontn.com
SUMMARY:Closed Title Jackson Grand Opening
DESCRIPTION:Join us for complimentary bites and sips\, a giveaway raffle and family friendly entertainment – hosted by Closed Title Jackson! 
URL:https://jacksontn.com/event/closed-title-jackson-grand-opening/
LOCATION:Closed Title Jackson\, 36 Sandstone Circle\, Suite E\, Jackson\, TN\, 38301\, United States
CATEGORIES:Member Events
END:VEVENT
END:VCALENDAR